BEGIN:VCALENDAR
VERSION:2.0
PRODID:-//AudioTheme 2.3.8
BEGIN:VEVENT
UID:urn:uuid:57547e7b-f2b3-41d3-a360-59a3eb05fce5
URL:https://mitchmcvicker.com/concerts/gig-1477/
DTSTART;VALUE=DATE:20131117
SUMMARY:Grace Fellowship Church
LOCATION:Grace Fellowship Church\, Kearney\, NE
END:VEVENT
END:VCALENDAR
