BEGIN:VCALENDAR
VERSION:2.0
PRODID:-//AudioTheme 2.3.8
BEGIN:VEVENT
UID:urn:uuid:945cb86f-9009-4c28-9704-180f0b82982c
URL:https://mitchmcvicker.com/concerts/gig-1472/
DTSTART;VALUE=DATE:20131027
SUMMARY:North Heights Lutheran Church
LOCATION:North Heights Lutheran Church\, Roseville\, MN
END:VEVENT
END:VCALENDAR
