BEGIN:VCALENDAR
VERSION:2.0
PRODID:-//AudioTheme 2.3.8
BEGIN:VEVENT
UID:urn:uuid:bc4bf36f-4ef1-4c1e-9fdf-60654990dcb3
URL:https://mitchmcvicker.com/concerts/gig-1471/
DTSTART;VALUE=DATE:20131027
SUMMARY:South Metro Vineyard Church
LOCATION:South Metro Vineyard Church\, 13798 Parkwood Dr\, Burnsville\, MN\, USA\, 55337
END:VEVENT
END:VCALENDAR
