BEGIN:VCALENDAR
VERSION:2.0
PRODID:-//AudioTheme 2.3.8
BEGIN:VEVENT
UID:urn:uuid:e0f3b1cc-3bd9-4ae7-808d-09b947825ddd
URL:https://mitchmcvicker.com/concerts/gig-1469/
DTSTART;VALUE=DATE:20131025
SUMMARY:Riverwood Community Church
LOCATION:Riverwood Community Church\, Burlington\, WI
END:VEVENT
END:VCALENDAR
