BEGIN:VCALENDAR
VERSION:2.0
PRODID:-//AudioTheme 2.3.8
BEGIN:VEVENT
UID:urn:uuid:697b5af0-5f50-4e74-8a9c-7c7417472c5c
URL:https://mitchmcvicker.com/concerts/gig-1467/
DTSTART;VALUE=DATE:20131020
SUMMARY:Englewood United Methodist Church
LOCATION:Englewood United Methodist Church\, Englewood\, FL
END:VEVENT
END:VCALENDAR
