BEGIN:VCALENDAR
VERSION:2.0
PRODID:-//AudioTheme 2.3.8
BEGIN:VEVENT
UID:urn:uuid:5bb35f5c-ab9b-4ee9-b254-24417a85ee08
URL:https://mitchmcvicker.com/concerts/gig-1463/
DTSTART;VALUE=DATE:20131017
SUMMARY:Coastal Community Church
LOCATION:Coastal Community Church\, North Port\, FL
END:VEVENT
END:VCALENDAR
