BEGIN:VCALENDAR
VERSION:2.0
PRODID:-//AudioTheme 2.3.8
BEGIN:VEVENT
UID:urn:uuid:099dbf6e-7088-4ad1-9c4e-e6df440ba6bf
URL:https://mitchmcvicker.com/concerts/gig-1461/
DTSTART;VALUE=DATE:20131013
SUMMARY:Cumberland Christian Church
LOCATION:Cumberland Christian Church\, Indianapolis\, IN
END:VEVENT
END:VCALENDAR
