BEGIN:VCALENDAR
VERSION:2.0
PRODID:-//AudioTheme 2.3.8
BEGIN:VEVENT
UID:urn:uuid:690aa67c-27f0-4eab-9188-6cd70bd34c7c
URL:https://mitchmcvicker.com/concerts/gig-1460/
DTSTART;VALUE=DATE:20131011
SUMMARY:Holton Christian Church - Church in the Park
LOCATION:Holton Christian Church - Church in the Park\, Holton Community Park 6805 W. Versailles St.\, Holton\, IN
END:VEVENT
END:VCALENDAR
