BEGIN:VCALENDAR
VERSION:2.0
PRODID:-//AudioTheme 2.3.8
BEGIN:VEVENT
UID:urn:uuid:39c54a81-eee8-4b93-bfd0-c5ddd79be94b
URL:https://mitchmcvicker.com/concerts/gig-1458/
DTSTART;VALUE=DATE:20130929
SUMMARY:Ebeneezer United Methodist Church
LOCATION:Ebeneezer United Methodist Church\, Fallston\, MD
END:VEVENT
END:VCALENDAR
