BEGIN:VCALENDAR
VERSION:2.0
PRODID:-//AudioTheme 2.3.8
BEGIN:VEVENT
UID:urn:uuid:45b5d2f0-9e82-4f82-95e6-56a74a433333
URL:https://mitchmcvicker.com/concerts/gig-1454/
DTSTART;VALUE=DATE:20130927
SUMMARY:Hinkletown Mennonite Church
LOCATION:Hinkletown Mennonite Church\, Ephrata\, PA
END:VEVENT
END:VCALENDAR
