BEGIN:VCALENDAR
VERSION:2.0
PRODID:-//AudioTheme 2.3.8
BEGIN:VEVENT
UID:urn:uuid:5a96a049-89ed-4946-ac48-dea1f490a53e
URL:https://mitchmcvicker.com/concerts/gig-1452/
DTSTART;VALUE=DATE:20130921
SUMMARY:Freedom Fest
LOCATION:Freedom Fest\, Darlington\, IN
END:VEVENT
END:VCALENDAR
