BEGIN:VCALENDAR
VERSION:2.0
PRODID:-//AudioTheme 2.3.8
BEGIN:VEVENT
UID:urn:uuid:54637a50-4bb4-47b5-816a-a9e86a1cafe3
URL:https://mitchmcvicker.com/concerts/gig-1450/
DTSTART;VALUE=DATE:20130920
SUMMARY:Bridge Community Church-Jeremiah's Grotto Coffeehouse
LOCATION:Bridge Community Church-Jeremiah's Grotto Coffeehouse\, Portage\, IN
END:VEVENT
END:VCALENDAR
