BEGIN:VCALENDAR
VERSION:2.0
PRODID:-//AudioTheme 2.3.8
BEGIN:VEVENT
UID:urn:uuid:8e7bca10-a945-406f-9295-c288cfcd504c
URL:https://mitchmcvicker.com/concerts/gig-1448/
DTSTART;VALUE=DATE:20130822
SUMMARY:Christ Church Laporte
LOCATION:Christ Church Laporte\, Laporte\, IN
END:VEVENT
END:VCALENDAR
