BEGIN:VCALENDAR
VERSION:2.0
PRODID:-//AudioTheme 2.3.8
BEGIN:VEVENT
UID:urn:uuid:90594691-e25c-468d-a002-4b5b2245e4f4
URL:https://mitchmcvicker.com/concerts/gig-1446/
DTSTART;VALUE=DATE:20130821
SUMMARY:Windsor United Methodist Church
LOCATION:Windsor United Methodist Church\, Windsor\, IL
END:VEVENT
END:VCALENDAR
