BEGIN:VCALENDAR
VERSION:2.0
PRODID:-//AudioTheme 2.3.8
BEGIN:VEVENT
UID:urn:uuid:88bc8b31-ae3b-4d5f-bd82-5b94447487ed
URL:https://mitchmcvicker.com/concerts/gig-1444/
DTSTART;VALUE=DATE:20130820
SUMMARY:Troy Abundant Life
LOCATION:Troy Abundant Life\, Troy\, OH
END:VEVENT
END:VCALENDAR
