BEGIN:VCALENDAR
VERSION:2.0
PRODID:-//AudioTheme 2.3.8
BEGIN:VEVENT
UID:urn:uuid:3ba0cc4f-d373-406f-97b3-5650b5c39cd1
URL:https://mitchmcvicker.com/concerts/gig-1443/
DTSTART;VALUE=DATE:20130819
SUMMARY:Beautiful Savior Lutheran Church
LOCATION:Beautiful Savior Lutheran Church\, 3924 Home Road\, Powell\, OH\, 43065
END:VEVENT
END:VCALENDAR
