BEGIN:VCALENDAR
VERSION:2.0
PRODID:-//AudioTheme 2.3.8
BEGIN:VEVENT
UID:urn:uuid:a9b909b9-4401-44e1-b148-553b9c8c5930
URL:https://mitchmcvicker.com/concerts/gig-1442/
DTSTART;VALUE=DATE:20130818
SUMMARY:Verona Seventh Day Baptist Church
LOCATION:Verona Seventh Day Baptist Church\, Verona\, NY
END:VEVENT
END:VCALENDAR
