BEGIN:VCALENDAR
VERSION:2.0
PRODID:-//AudioTheme 2.3.8
BEGIN:VEVENT
UID:urn:uuid:389544d7-1203-493a-8058-05993ed98512
URL:https://mitchmcvicker.com/concerts/gig-1440/
DTSTART;VALUE=DATE:20130817
SUMMARY:Sacandaga Bibile Conference
LOCATION:Sacandaga Bibile Conference\, Broadalbin\, NY
END:VEVENT
END:VCALENDAR
