BEGIN:VCALENDAR
VERSION:2.0
PRODID:-//AudioTheme 2.3.8
BEGIN:VEVENT
UID:urn:uuid:da34c6f7-a191-4214-a8ee-db809045edf6
URL:https://mitchmcvicker.com/concerts/gig-1439/
DTSTART;VALUE=DATE:20130816
SUMMARY:The Trinity Church of Middleburg Heights
LOCATION:The Trinity Church of Middleburg Heights\, 14040 Bagley Rd\, Middleburg Heights\, OH\, USA\, 44130
END:VEVENT
END:VCALENDAR
