BEGIN:VCALENDAR
VERSION:2.0
PRODID:-//AudioTheme 2.3.8
BEGIN:VEVENT
UID:urn:uuid:82b571e6-0b4d-4ee4-b903-cb37824a0a20
URL:https://mitchmcvicker.com/concerts/gig-1437/
DTSTART;VALUE=DATE:20130815
SUMMARY:Dear Run Church of Christ
LOCATION:Dear Run Church of Christ\, South Bend\, IN
END:VEVENT
END:VCALENDAR
