BEGIN:VCALENDAR
VERSION:2.0
PRODID:-//AudioTheme 2.3.8
BEGIN:VEVENT
UID:urn:uuid:5d81bb0d-3f0d-44a8-a088-8f9c76428298
URL:https://mitchmcvicker.com/concerts/gig-1435/
DTSTART;VALUE=DATE:20130814
SUMMARY:Great Plains Theatre
LOCATION:Great Plains Theatre\, Abilene\, KS
END:VEVENT
END:VCALENDAR
