BEGIN:VCALENDAR
VERSION:2.0
PRODID:-//AudioTheme 2.3.8
BEGIN:VEVENT
UID:urn:uuid:c0ba3063-f45d-4016-91ea-8a32abfded0d
URL:https://mitchmcvicker.com/concerts/gig-1433/
DTSTART;VALUE=DATE:20130811
SUMMARY:Grace Church
LOCATION:Grace Church\, Show Low\, AZ
END:VEVENT
END:VCALENDAR
