BEGIN:VCALENDAR
VERSION:2.0
PRODID:-//AudioTheme 2.3.8
BEGIN:VEVENT
UID:urn:uuid:81ccf0bd-81e9-4169-9e0d-29f12db721f2
URL:https://mitchmcvicker.com/concerts/gig-1431/
DTSTART;VALUE=DATE:20130810
SUMMARY:Bethel Bible Fellowship
LOCATION:Bethel Bible Fellowship\, Las Cruces\, NM
END:VEVENT
END:VCALENDAR
