BEGIN:VCALENDAR
VERSION:2.0
PRODID:-//AudioTheme 2.3.8
BEGIN:VEVENT
UID:urn:uuid:a006fbd0-5811-4106-a241-caffa5a84231
URL:https://mitchmcvicker.com/concerts/gig-1427/
DTSTART;VALUE=DATE:20130808
SUMMARY:Activity Center at International Linguistic Center
LOCATION:Activity Center at International Linguistic Center\, Dallas\, TX
END:VEVENT
END:VCALENDAR
