BEGIN:VCALENDAR
VERSION:2.0
PRODID:-//AudioTheme 2.3.8
BEGIN:VEVENT
UID:urn:uuid:1a76c5f4-cf8d-4ee3-8573-68171d51ad18
URL:https://mitchmcvicker.com/concerts/gig-1426/
DTSTART;VALUE=DATE:20130807
SUMMARY:Cornerstone Community Church
LOCATION:Cornerstone Community Church\, 260 E Galer Ave\, Nowata\, OK\, 74048
END:VEVENT
END:VCALENDAR
