BEGIN:VCALENDAR
VERSION:2.0
PRODID:-//AudioTheme 2.3.8
BEGIN:VEVENT
UID:urn:uuid:f911c449-5bc1-46c2-a7ce-5c8099b7d406
URL:https://mitchmcvicker.com/concerts/gig-1425/
DTSTART;VALUE=DATE:20130806
SUMMARY:Louisburg Baptist Temple
LOCATION:Louisburg Baptist Temple\, Louisburg\, KS
END:VEVENT
END:VCALENDAR
