BEGIN:VCALENDAR
VERSION:2.0
PRODID:-//AudioTheme 2.3.8
BEGIN:VEVENT
UID:urn:uuid:7bde7d00-00ae-44fb-bd32-57a1f7858f2b
URL:https://mitchmcvicker.com/concerts/gig-1422/
DTSTART;VALUE=DATE:20130804
SUMMARY:Hope Community Church
LOCATION:Hope Community Church\, 1831 E 21st St\, Andover\, KS
END:VEVENT
END:VCALENDAR
