BEGIN:VCALENDAR
VERSION:2.0
PRODID:-//AudioTheme 2.3.8
BEGIN:VEVENT
UID:urn:uuid:bc13ed8e-d869-4d30-a49a-711d6e4ff818
URL:https://mitchmcvicker.com/concerts/gig-1421/
DTSTART;VALUE=DATE:20130803
SUMMARY:New Creation Church
LOCATION:New Creation Church\, Broken Arrow\, OK
END:VEVENT
END:VCALENDAR
