BEGIN:VCALENDAR
VERSION:2.0
PRODID:-//AudioTheme 2.3.8
BEGIN:VEVENT
UID:urn:uuid:cf54abe4-28f1-43ac-9bed-9ddce127f5a1
URL:https://mitchmcvicker.com/concerts/gig-1420/
DTSTART;VALUE=DATE:20130802
SUMMARY:Koke Mill Christian Church
LOCATION:Koke Mill Christian Church\, Springfield\, IL
END:VEVENT
END:VCALENDAR
