BEGIN:VCALENDAR
VERSION:2.0
PRODID:-//AudioTheme 2.3.8
BEGIN:VEVENT
UID:urn:uuid:0c6fcfdd-6b4f-47d6-ba3b-0ebaabbb884c
URL:https://mitchmcvicker.com/concerts/gig-1419/
DTSTART;VALUE=DATE:20130414
SUMMARY:Pleasant Garden Baptist Church
LOCATION:Pleasant Garden Baptist Church\, 1415 Neelley Rd\, Pleasant Garden\, NC\, 27313
END:VEVENT
END:VCALENDAR
