BEGIN:VCALENDAR
VERSION:2.0
PRODID:-//AudioTheme 2.3.8
BEGIN:VEVENT
UID:urn:uuid:37e3ea02-d517-4cbb-999b-fa127bb6c321
URL:https://mitchmcvicker.com/concerts/gig-1418/
DTSTART;VALUE=DATE:20130428
SUMMARY:POSTPONED
LOCATION:POSTPONED\, POSTPONED Woonsocket\, RI
END:VEVENT
END:VCALENDAR
