BEGIN:VCALENDAR
VERSION:2.0
PRODID:-//AudioTheme 2.3.8
BEGIN:VEVENT
UID:urn:uuid:2267773e-763d-4553-8bb9-ea3b0ed3a322
URL:https://mitchmcvicker.com/concerts/gig-1416/
DTSTART;VALUE=DATE:20130427
SUMMARY:Crossroads Church
LOCATION:Crossroads Church\, West Ossipee\, NH
END:VEVENT
END:VCALENDAR
