BEGIN:VCALENDAR
VERSION:2.0
PRODID:-//AudioTheme 2.3.8
BEGIN:VEVENT
UID:urn:uuid:9fe2dddd-1d90-4377-8bb5-0df2b20d3a92
URL:https://mitchmcvicker.com/concerts/gig-1414/
DTSTART;VALUE=DATE:20130426
SUMMARY:Karen's Place (Doylestown Mennonite Church
LOCATION:Karen's Place (Doylestown Mennonite Church\, Doylestown\, PA
END:VEVENT
END:VCALENDAR
