BEGIN:VCALENDAR
VERSION:2.0
PRODID:-//AudioTheme 2.3.8
BEGIN:VEVENT
UID:urn:uuid:cfada8d8-2cf1-4f36-86fc-c23af8ade4d1
URL:https://mitchmcvicker.com/concerts/gig-1411/
DTSTART;VALUE=DATE:20130413
SUMMARY:Yodis Retreat
LOCATION:Yodis Retreat\, Pleasant Garden\, NC
END:VEVENT
END:VCALENDAR
