BEGIN:VCALENDAR
VERSION:2.0
PRODID:-//AudioTheme 2.3.8
BEGIN:VEVENT
UID:urn:uuid:e9b98265-2d3e-458e-8deb-9e3d0ea0b488
URL:https://mitchmcvicker.com/concerts/gig-1410/
DTSTART;VALUE=DATE:20130412
SUMMARY:Holton Christian Church - Church in the Park
LOCATION:Holton Christian Church - Church in the Park\, Holton Community Park 6805 W. Versailles St.\, Holton\, IN
END:VEVENT
END:VCALENDAR
