BEGIN:VCALENDAR
VERSION:2.0
PRODID:-//AudioTheme 2.3.8
BEGIN:VEVENT
UID:urn:uuid:366a5787-388b-47d9-9bd1-5451073452fc
URL:https://mitchmcvicker.com/concerts/gig-1409/
DTSTART;VALUE=DATE:20130411
SUMMARY:Vincennes University Christian Campus Fellowship
LOCATION:Vincennes University Christian Campus Fellowship\, Vincennes\, IN
END:VEVENT
END:VCALENDAR
