BEGIN:VCALENDAR
VERSION:2.0
PRODID:-//AudioTheme 2.3.8
BEGIN:VEVENT
UID:urn:uuid:79e131c3-85a5-4e25-9e2d-4e2a32f77050
URL:https://mitchmcvicker.com/concerts/gig-1407/
DTSTART;VALUE=DATE:20130410
SUMMARY:Gladwin Cornerstone Baptist Church
LOCATION:Gladwin Cornerstone Baptist Church\, Gladwin\, MI
END:VEVENT
END:VCALENDAR
