BEGIN:VCALENDAR
VERSION:2.0
PRODID:-//AudioTheme 2.3.8
BEGIN:VEVENT
UID:urn:uuid:f2ab72b0-4872-4a2f-b59f-76890806b5ee
URL:https://mitchmcvicker.com/concerts/gig-1405/
DTSTART;VALUE=DATE:20130409
SUMMARY:Bridge Bible Church
LOCATION:Bridge Bible Church\, Norton Shores\, MI
END:VEVENT
END:VCALENDAR
