BEGIN:VCALENDAR
VERSION:2.0
PRODID:-//AudioTheme 2.3.8
BEGIN:VEVENT
UID:urn:uuid:958c2416-86ae-401d-bcad-f18e39880f32
URL:https://mitchmcvicker.com/concerts/gig-1404/
DTSTART;VALUE=DATE:20130324
SUMMARY:Plum Creek Christian Church
LOCATION:Plum Creek Christian Church\, Butler\, KY
END:VEVENT
END:VCALENDAR
