BEGIN:VCALENDAR
VERSION:2.0
PRODID:-//AudioTheme 2.3.8
BEGIN:VEVENT
UID:urn:uuid:62c12600-11be-4906-b4db-f6b237a1c2a6
URL:https://mitchmcvicker.com/concerts/gig-1402/
DTSTART;VALUE=DATE:20130323
SUMMARY:Sojurn Community Church
LOCATION:Sojurn Community Church\, Louisville\, KY
END:VEVENT
END:VCALENDAR
