BEGIN:VCALENDAR
VERSION:2.0
PRODID:-//AudioTheme 2.3.8
BEGIN:VEVENT
UID:urn:uuid:870f1c86-6d5c-4984-ae0c-cefbf58f781c
URL:https://mitchmcvicker.com/concerts/gig-1400/
DTSTART;VALUE=DATE:20130317
SUMMARY:The Graves
LOCATION:The Graves\, Grand Prairie\, TX
END:VEVENT
END:VCALENDAR
