BEGIN:VCALENDAR
VERSION:2.0
PRODID:-//AudioTheme 2.3.8
BEGIN:VEVENT
UID:urn:uuid:967ecb53-175c-41ea-8cb0-56cbc5b433f7
URL:https://mitchmcvicker.com/concerts/gig-1399/
DTSTART;VALUE=DATE:20130316
SUMMARY:Lolita United Methodist Church
LOCATION:Lolita United Methodist Church\, Lolita\, TX
END:VEVENT
END:VCALENDAR
