BEGIN:VCALENDAR
VERSION:2.0
PRODID:-//AudioTheme 2.3.8
BEGIN:VEVENT
UID:urn:uuid:7b2143ac-f5cf-48f3-8953-3a9c03e5be3d
URL:https://mitchmcvicker.com/concerts/gig-1398/
DTSTART;VALUE=DATE:20130315
SUMMARY:Pursuit Christian Fellowship
LOCATION:Pursuit Christian Fellowship\, 5736-B Highway 78\, Sachse\, TX\, 75048
END:VEVENT
END:VCALENDAR
