BEGIN:VCALENDAR
VERSION:2.0
PRODID:-//AudioTheme 2.3.8
BEGIN:VEVENT
UID:urn:uuid:070d9ad1-22ee-4c08-a76b-2fad0e763e3b
URL:https://mitchmcvicker.com/concerts/gig-1397/
DTSTART;VALUE=DATE:20130314
SUMMARY:Faith and Learning Alumni Auditorium/Friends University
LOCATION:Faith and Learning Alumni Auditorium/Friends University\, Wichita\, KS
END:VEVENT
END:VCALENDAR
