BEGIN:VCALENDAR
VERSION:2.0
PRODID:-//AudioTheme 2.3.8
BEGIN:VEVENT
UID:urn:uuid:1199412f-4493-46d6-90fc-d3e64150d13a
URL:https://mitchmcvicker.com/concerts/gig-1396/
DTSTART;VALUE=DATE:20130313
SUMMARY:Lighthouse Bible Church
LOCATION:Lighthouse Bible Church\, Topeka\, KS
END:VEVENT
END:VCALENDAR
