BEGIN:VCALENDAR
VERSION:2.0
PRODID:-//AudioTheme 2.3.8
BEGIN:VEVENT
UID:urn:uuid:c99ad948-141e-402f-b59f-187c5dfb3aee
URL:https://mitchmcvicker.com/concerts/gig-1395/
DTSTART;VALUE=DATE:20130303
SUMMARY:Vineyard Church of Cedar Rapids
LOCATION:Vineyard Church of Cedar Rapids\, Cedar Rapids\, IA
END:VEVENT
END:VCALENDAR
