BEGIN:VCALENDAR
VERSION:2.0
PRODID:-//AudioTheme 2.3.8
BEGIN:VEVENT
UID:urn:uuid:019ac1e1-656a-43a5-bf9a-7b9751e5dcaf
URL:https://mitchmcvicker.com/concerts/gig-1393/
DTSTART;VALUE=DATE:20130301
SUMMARY:Elburn Hill Church
LOCATION:Elburn Hill Church\, Elburn\, IL
END:VEVENT
END:VCALENDAR
