BEGIN:VCALENDAR
VERSION:2.0
PRODID:-//AudioTheme 2.3.8
BEGIN:VEVENT
UID:urn:uuid:34b6815d-6248-457e-babe-69eb4a8a2231
URL:https://mitchmcvicker.com/concerts/gig-1392/
DTSTART;VALUE=DATE:20130228
SUMMARY:Trinity Lutheran Church
LOCATION:Trinity Lutheran Church\, 1410 Rogers St\, Stevens Point\, WI\, USA\, 54481
END:VEVENT
END:VCALENDAR
