BEGIN:VCALENDAR
VERSION:2.0
PRODID:-//AudioTheme 2.3.8
BEGIN:VEVENT
UID:urn:uuid:66fce8ec-2159-42d7-a63f-e3b6d521a8cc
URL:https://mitchmcvicker.com/concerts/gig-1390/
DTSTART;VALUE=DATE:20130224
SUMMARY:Christ Church
LOCATION:Christ Church\, Michigan City\, IN
END:VEVENT
END:VCALENDAR
