BEGIN:VCALENDAR
VERSION:2.0
PRODID:-//AudioTheme 2.3.8
BEGIN:VEVENT
UID:urn:uuid:62bc48b4-9c75-4ca6-9a20-d4c8f0ca8bbb
URL:https://mitchmcvicker.com/concerts/gig-1388/
DTSTART;VALUE=DATE:20130223
SUMMARY:Faith Alive Church
LOCATION:Faith Alive Church\, Elyria\, OH
END:VEVENT
END:VCALENDAR
